BEGIN:VCALENDAR
VERSION:2.0
BEGIN:VEVENT
SUMMARY:239+/- Acres of Bon Homme &amp; Charles Mix County, SD in 2 Parcels
DTSTART;TZID=UTC:20260425T150000
DTEND;TZID=UTC:20260425T150000
DTSTAMP:20260425T150000Z
UID:317258-239-acre-bon-homme-charles-mix-county-sd-in-2-parcels
DESCRIPTION:239+/- acres of Bon Homme &amp; Charles Mix County, SD in 2 parcels. Parcel 1 features 92 +/- acres with two separate homes, single car detached garage, large storage shed, barn, chicken coop, granary, calving shed and other outbuildings in Bon Homme County. Parcel 2 contains 147 +/- acres of Lone Tree Township, Charles Mix County land with 95 +/- acres of tillable ground with the balance being pasture and wildlife. Also selling farm supplies, tools, collectibles, &amp; household items. Live auction with online bidding.
LOCATION:40430 299th Street, Avon, SD 57315
ORGANIZER:Peterson Auctioneers
URL:https://www.allauctionsales.com/auctions/239-acre-bon-homme-charles-mix-county-sd-in-2-parcels
STATUS:CONFIRMED
PRIORITY:0
END:VEVENT
END:VCALENDAR