BEGIN:VCALENDAR
VERSION:2.0
BEGIN:VEVENT
SUMMARY:Live Public Auction of 2 Contiguous Tracts of Farmland Located in Plato TWP, Sioux County, IA
DTSTART:20260423T153000Z
DTEND:20260423T153000Z
DTSTAMP:20260423T153000Z
UID:317682-live-public-auction-of-2-contiguous-tracts-of-farmland-located-in-plato-twp-sioux-county-ia
DESCRIPTION:Live Public Auction Of 2 Contiguous Tracts Of Farmland Located In Plato TWP, Sioux County, IA offering excellent opportunity to purchase one or two tracts of prime Sioux County farmland. Tract 1 consists of 44.5 gross acres and Tract 2 consists of 40 gross acres
LOCATION:3028 360th Street, Sioux Center, IA 51250
ORGANIZER:Zomer Company Realty &amp; Auction Inc.
URL:https://www.allauctionsales.com/auctions/live-public-auction-of-2-contiguous-tracts-of-farmland-located-in-plato-twp-sioux-county-ia
STATUS:CONFIRMED
PRIORITY:0
END:VEVENT
END:VCALENDAR