BEGIN:VCALENDAR
VERSION:2.0
BEGIN:VEVENT
SUMMARY:Alvord, IA Acreage Auction
DTSTART:20260505T230000Z
DTEND:20260505T230000Z
DTSTAMP:20260505T230000Z
UID:320936-alvord-ia-acreage-auction
DESCRIPTION:Alvord, IA acreage auction offering a property on a hard surface road &amp; features a nice ranch style home and several outbuildings including a 40ft x 72ft Morton machine shed, 32 x 60 storage shed, 20 x 80 open front cattle shed &amp; a 35 x 75 former hog building all on 8.44+/- acres.
LOCATION:2263 Elmwood Avenue, Alvord, IA 51230
ORGANIZER:Zomer Company Realty &amp; Auction Inc.
URL:https://www.allauctionsales.com/auctions/alvord-ia-acreage-auction
STATUS:CONFIRMED
PRIORITY:0
END:VEVENT
END:VCALENDAR