BEGIN:VCALENDAR
VERSION:2.0
BEGIN:VEVENT
SUMMARY:Ronald Hamilton Estate Absolute Liquidation Auction – Lafayette, IN
DTSTART;TZID=UTC:20260424T130000
DTEND;TZID=UTC:20260424T130000
DTSTAMP:20260424T130000Z
UID:321095-ronald-hamilton-estate-absolute-liquidation-auction-lafayette-in
DESCRIPTION:Ronald Hamilton Estate absolute liquidation auction featuring the contents of the machine shop including machine tools, welders, and support equipment. Bid on a 1973 Ford Mustang, Taylor forklift, Grove crane, Koehring 466E excavator, 1995 Freightliner truck, Cincinnati radial mill, Kempsmith vertical max-mill, Cincinnati heavy duty shaper, Norton spindle grinder, Hitachi Seiki mill, Gallmyer surface grinder, Lodge &amp; Shipley lathe, Cleerman vertical jig borer &amp; more. Live auction with online bidding.
LOCATION:9914 E 100 N, Lafayette, IN 47905
ORGANIZER:Bright Star Auctions
URL:https://www.allauctionsales.com/auctions/ronald-hamilton-estate-absolute-liquidation-auction-lafayette-in
STATUS:CONFIRMED
PRIORITY:0
END:VEVENT
END:VCALENDAR