BEGIN:VCALENDAR
VERSION:2.0
BEGIN:VEVENT
SUMMARY:Farm Machinery Auction
DTSTART;TZID=UTC:20260425T150000
DTEND;TZID=UTC:20260425T150000
DTSTAMP:20260425T150000Z
UID:322129-farm-machinery-auction-4
DESCRIPTION:This farm machinery auction will be held on April 25 at 10am CT at 1400 N. Lightville Road, Salina, KS. Auction includes 1991 John Deere 4555 tractor, 1995 Ford 9280 Versatile 4-wheel drive tractor, 1960 Cockshut 550 gas tractor, 1996 Case IH 2188 Axial Flow combine, pickups, car, trucks, Cub Cadet XT2 LX 50” riding mower, 4-wheeler, machinery, tools, Jeep Commando HE 2 door and more!
LOCATION:1400 N. Lightville Road, Salina, KS 
ORGANIZER:Thummel Auction
URL:https://www.allauctionsales.com/auctions/farm-machinery-auction-4
STATUS:CONFIRMED
PRIORITY:0
END:VEVENT
END:VCALENDAR