BEGIN:VCALENDAR
VERSION:2.0
BEGIN:VEVENT
SUMMARY:Shelton Estate Online Only Auction - 3 – Bedrooms 2 -Bathroom * 1 Acre Lot
DTSTART;TZID=UTC:20260331T130000
DTEND;TZID=UTC:20260427T230000
DTSTAMP:20260331T130000Z
UID:322982-shelton-estate-online-only-auction-3-bedrooms-2-bathroom-1-acre-lot
DESCRIPTION:Online only real estate auction, closing April 27 at 6pm CT. This 1,494 sq ft home in Cleveland, Oklahoma offers a great opportunity for investors or buyers looking for a fixer-upper with potential. Situated on a full 1-acre lot, the property features 3 bedrooms and 2 bathrooms, providing a solid layout to make your own. Located at 365105 E. 5400 Rd.
LOCATION:365105 E. 5400 Rd., Cleveland, OK 
ORGANIZER:Lippard Real Estate and Auction
URL:https://www.allauctionsales.com/auctions/shelton-estate-online-only-auction-3-bedrooms-2-bathroom-1-acre-lot
STATUS:CONFIRMED
PRIORITY:0
END:VEVENT
END:VCALENDAR