BEGIN:VCALENDAR
VERSION:2.0
BEGIN:VEVENT
SUMMARY:Collectible Coin &amp; Currency Live Webcast Auction
DTSTART;TZID=UTC:20260425T150000
DTEND;TZID=UTC:20260425T150000
DTSTAMP:20260425T150000Z
UID:323617-collectible-coin-currency-live-webcast-auction
DESCRIPTION:Collectible coin &amp; currency live webcast auction of coins, currency, buillion, and more. Features (4) $50 gold eagles; (4) $20 gold dbl eagles; tenth &amp; half ounce gold pc; (4) Carson City Morgan dollars, 2 are in GSA holders; slabbed &amp; graded Morgan Dollars, plus many others. Nothing held back! Live webcast auction with online pre-bidding.
LOCATION:135 West Center Street, Cambridge, IL 61238
ORGANIZER:Stenzel Auction Service
URL:https://www.allauctionsales.com/auctions/collectible-coin-currency-live-webcast-auction
STATUS:CONFIRMED
PRIORITY:0
END:VEVENT
END:VCALENDAR