BEGIN:VCALENDAR
VERSION:2.0
BEGIN:VEVENT
SUMMARY:282+/- Acre Grant County, KS Land Auction
DTSTART;TZID=UTC:20260422T160000
DTEND;TZID=UTC:20260422T160000
DTSTAMP:20260422T160000Z
UID:324107-282-acre-grant-county-ks-land-auction
DESCRIPTION:282+/- acre Grant County, KS land auction. There are 279.9 acres enrolled in CRP. Tract will be offered choice by quarter section. Successful bidder may take East or West Tract or Both. East Tract 139+/- acres, West Tract 143+/- acres. CRP contract will be divided by cropland percentage if two separate buyers. Buyer to receive 2026 CRP payments. Live auction with online bidding.
LOCATION:1850 West Oklahoma, Ulysses, KS 67880
ORGANIZER:Carr Auction &amp; Real Estate
URL:https://www.allauctionsales.com/auctions/282-acre-grant-county-ks-land-auction
STATUS:CONFIRMED
PRIORITY:0
END:VEVENT
END:VCALENDAR