BEGIN:VCALENDAR
VERSION:2.0
BEGIN:VEVENT
SUMMARY:Craig Mcintyre Auction
DTSTART:20260419T160000Z
DTEND:20260419T160000Z
DTSTAMP:20260419T160000Z
UID:324126-craig-mcintyre-auction
DESCRIPTION:Craig Mcintyre auction featuring guns, ammo, archery, lawn &amp; garden equipment, outdoor items, household goods, collectibles, woodworking equipment &amp; tools, fishing, hunting items &amp; more including a Cub Cadet mower, Predator inverter generator, vintage Atwater Kent tube breadbox radio, Delta dust collection system, Delta hollow chisel mortiser, Grizzly band saw, fishing rods, Lowrance fishfinder, Lemond bicycle &amp; much more.
LOCATION:19 East Main Avenue, Fort Pierre, SD 57532
ORGANIZER:Triple A Auction Company, Action Auction Associates LLC
URL:https://www.allauctionsales.com/auctions/craig-mcintyre-auction
STATUS:CONFIRMED
PRIORITY:0
END:VEVENT
END:VCALENDAR