BEGIN:VCALENDAR
VERSION:2.0
BEGIN:VEVENT
SUMMARY:Don &amp; Lynette Laue Retirement Acreage Items Auction
DTSTART;TZID=UTC:20260425T143000
DTEND;TZID=UTC:20260425T143000
DTSTAMP:20260425T143000Z
UID:325515-auction-don-lynette-laue-retirement-acreage-items
DESCRIPTION:Don &amp; Lynette Laue retirement acreage items auction featuring J.D. 260 Skid loader, J.D. 620 Gator, J.D. X734, lawn mower, H&amp;H18&#039; utility trailer, welder, torch, skid loader attachments, air compressor, drill press, tool chests, tools, and more.
LOCATION:163 70th Ave, Dunnell, MN 56127
ORGANIZER:Howell Real Estate &amp; Auction
URL:https://www.allauctionsales.com/auctions/auction-don-lynette-laue-retirement-acreage-items
STATUS:CONFIRMED
PRIORITY:0
END:VEVENT
END:VCALENDAR