BEGIN:VCALENDAR
VERSION:2.0
BEGIN:VEVENT
SUMMARY:April Emporium Guns &amp; Sporting Online Only Auction
DTSTART:20260402T110000Z
DTEND:20260423T130000Z
DTSTAMP:20260402T110000Z
UID:326028-april-emporium-guns-sporting-online-only-auction
DESCRIPTION:April emporium guns &amp; sporting online only auction featuring 1,800+ lots! Guns by Winchester, Remington, Colt, Marlin, Ruger, Smith &amp; Wesson, thousands of rounds of factory ammo, reloading components &amp; machines, military collectibles, taxidermy, knives, &amp; related antiques. Auction begins to close on April 23rd at 8:00am CT.
LOCATION:300 S Marquette, Prairie du Chien, WI 53821
ORGANIZER:Kramer Auction Service
URL:https://www.allauctionsales.com/auctions/april-emporium-guns-sporting-online-only-auction
STATUS:CONFIRMED
PRIORITY:0
END:VEVENT
END:VCALENDAR