BEGIN:VCALENDAR
VERSION:2.0
BEGIN:VEVENT
SUMMARY:Spring Consignment Online Only Auction - Day 2
DTSTART:20260404T160000Z
DTEND:20260419T160000Z
DTSTAMP:20260404T160000Z
UID:326138-spring-consignment-online-only-auction-day-2
DESCRIPTION:Spring Consignment Online Only Auction - Day 2 offering tractors, trailers, equipment, farm implements, vehicles, RVs, ATVs, UTVs, fencing supplies, lumber and building materials, yard and garden, shipping containers, mini excavators, livestock equipment, portable toilets and more! Auction starts to close April 19th at 9:00 AM PT
LOCATION:1400 US Highway 197, The Dalles, OR 97058
ORGANIZER:Auction Sales Co.
URL:https://www.allauctionsales.com/auctions/spring-consignment-online-only-auction-day-2
STATUS:CONFIRMED
PRIORITY:0
END:VEVENT
END:VCALENDAR