BEGIN:VCALENDAR
VERSION:2.0
BEGIN:VEVENT
SUMMARY:Live April Coin Auction
DTSTART;TZID=UTC:20260425T140000
DTEND;TZID=UTC:20260425T140000
DTSTAMP:20260425T140000Z
UID:326190-live-april-coin-auction
DESCRIPTION:Live April coin auction featuring 450 lots of Morgan $, 1916 CoCaCola Pepsin gum paperweight, Am. Ea., Clinton $3 bills, US historic coins collection, $100 Bank Bag 2011 p&amp;d ½ $, seated dimes, FR Star notes, Peace $, Jar of MDMG Wht. Cts., Land of the USA State Penny Set in Frame, IH Cts, Buffalo nickels, Barb ½, mint sets, PR sets &amp; more. Live auction on Saturday, April 25th at 9am CT at 627 Market Street - Portis, KS 67474.
LOCATION:627 Market Street, Portis, KS 67474
ORGANIZER:Wolters Auction and Realty
URL:https://www.allauctionsales.com/auctions/live-april-coin-auction
STATUS:CONFIRMED
PRIORITY:0
END:VEVENT
END:VCALENDAR