BEGIN:VCALENDAR
VERSION:2.0
BEGIN:VEVENT
SUMMARY:Tom &amp; Mary Morton Farm Retirement Online Only Auction: Combine, Tractors, Tillage &amp; Planting, Trucks
DTSTART:20260407T130000Z
DTEND:20260422T220000Z
DTSTAMP:20260407T130000Z
UID:327570-tom-mary-morton-farm-retirement-online-only-auction-combine-tractors-tillage-planting-trucks
DESCRIPTION:This is an online only farm retirement auction, closing April 22 at 5pm CT. Auction includes Case combine &amp; tractors; service, fuel and tank trucks; tillage &amp; planting equipment; and more! Features 1995 International 8200 semi, 1995 International 8200 truck, 2004 Case IH 2388 Axial-Flow combine, 1988 Case IH 7140 tractor and 2001 Home 28 ft hopper bottom grain trailer. Items located in Oxford, Kansas.
LOCATION:1418 E 30th St S, (Across road to the South), Oxford, KS 67119
ORGANIZER:Theurer Auction/Realty, LLC
URL:https://www.allauctionsales.com/auctions/tom-mary-morton-farm-retirement-online-only-auction-combine-tractors-tillage-planting-trucks
STATUS:CONFIRMED
PRIORITY:0
END:VEVENT
END:VCALENDAR