BEGIN:VCALENDAR
VERSION:2.0
BEGIN:VEVENT
SUMMARY:May 7 - Shanks Estate Auction
DTSTART;TZID=UTC:20260507T141700
DTEND;TZID=UTC:20260507T141700
DTSTAMP:20260507T141700Z
UID:328141-may-7-shanks-estate-auction
DESCRIPTION:Shanks Estate auction featuring tractors, implements, shop tools, toolboxes, pecan sheller, welder/generators, scrap iron, ice maker, vintage farm equipment, work benches, all kinds of tools, hyperthermic chamber, pottery, lanterns, tack, antiques &amp; collectibles, sorghum press &amp; lots more. Live auction with online bidding on select items on Thursday, May 7th at 9:17am CT.
LOCATION:13409 East 161st Street South, Bixby, OK 74008
ORGANIZER:Chupps Auction Company and Real Estate
URL:https://www.allauctionsales.com/auctions/may-7-shanks-estate-auction
STATUS:CONFIRMED
PRIORITY:0
END:VEVENT
END:VCALENDAR