BEGIN:VCALENDAR
VERSION:2.0
BEGIN:VEVENT
SUMMARY:Absolute Real Estate Online Auction – 808 North St., Towanda, KS
DTSTART;TZID=UTC:20260409T130000
DTEND;TZID=UTC:20260505T230000
DTSTAMP:20260409T130000Z
UID:329368-absolute-real-estate-online-auction-808-north-st-towanda-ks
DESCRIPTION:Don’t miss this incredible opportunity to own a super cute fixer-upper that checks all the boxes for families, investors, or anyone looking to build instant equity! This inviting home features 2 spacious bedrooms, 1 bathroom, and central heat and air conditioning for year-round comfort. Inside, you’ll find a generous living room and kitchen, offering a great layout ready for your personal touch and updates. Online only auction, closing May 5 at 6pm CT.
LOCATION:808 North St., Towanda, KS 
ORGANIZER:Sudduth Realty
URL:https://www.allauctionsales.com/auctions/absolute-real-estate-online-auction-808-north-st-towanda-ks
STATUS:CONFIRMED
PRIORITY:0
END:VEVENT
END:VCALENDAR