BEGIN:VCALENDAR
VERSION:2.0
BEGIN:VEVENT
SUMMARY:May Online Equipment Auction
DTSTART;TZID=UTC:20260426T170000
DTEND;TZID=UTC:20260501T170000
DTSTAMP:20260426T170000Z
UID:329725-may-online-equipment-auction
DESCRIPTION:May online equipment auction including a 2022 Ford F250 Platinum truck, John Deere 1560 drill, 300 gallon diesel trailer with pump, 8ft disc, 15ft Tufline disc, school bus, Schuler HF455, yellow rock screener, 25ft x 8ft steel bridge platform, 2009 Chevrolet Silverado 2500 &amp; more. Auction begins to close on May 1st at 11:00am MT.
LOCATION:, Enders, NE 
ORGANIZER:Hayden Outdoors Equipment
URL:https://www.allauctionsales.com/auctions/may-online-equipment-auction
STATUS:CONFIRMED
PRIORITY:0
END:VEVENT
END:VCALENDAR