BEGIN:VCALENDAR
VERSION:2.0
BEGIN:VEVENT
SUMMARY:Coin Auction
DTSTART;TZID=UTC:20260502T140000
DTEND;TZID=UTC:20260502T140000
DTSTAMP:20260502T140000Z
UID:330566-coin-auction-3
DESCRIPTION:Coin auction offering 278 lots of Proof Sets, Mint Sets, Silver Eagles, Morgan, Peace &amp; Ike dollars, Walking Liberty &amp; Franklin halves, Buffalo nickels, Canadian silver, commemorative coins (silver), 3 gold coins &amp; much more.
LOCATION:2101 Zenith Ave, Spirit Lake, IA 51360
ORGANIZER:Howell Real Estate &amp; Auction
URL:https://www.allauctionsales.com/auctions/coin-auction-3
STATUS:CONFIRMED
PRIORITY:0
END:VEVENT
END:VCALENDAR