BEGIN:VCALENDAR
VERSION:2.0
BEGIN:VEVENT
SUMMARY:Coins, Sporting Goods, Artifacts, Marbles &amp; More Online Only Auction
DTSTART:20260411T140000Z
DTEND:20260420T223000Z
DTSTAMP:20260411T140000Z
UID:330961-coins-sporting-goods-artifacts-marbles-more-online-only-auction
DESCRIPTION:Coins, Sporting Goods, Artifacts, Marbles &amp; More Online Only Auction offering 1921 Peace silver dollar, 1903 Morgan silver dollar, 1921 Morgan silver dollar, 1878 American Eagle dollar, 1878 Morgan silver dollar, Chochton flint, Snyder arrowhead, marbles and more! Auction starts to close April 20th at 5:30 PM CT
LOCATION:905 East Morton, Jacksonville, IL 62650
ORGANIZER:Spradlin Auction Center
URL:https://www.allauctionsales.com/auctions/coins-sporting-goods-artifacts-marbles-more-online-only-auction
STATUS:CONFIRMED
PRIORITY:0
END:VEVENT
END:VCALENDAR