BEGIN:VCALENDAR
VERSION:2.0
BEGIN:VEVENT
SUMMARY:Sedgwick, KS Online Real Estate Auction
DTSTART;TZID=UTC:20260422T190000
DTEND;TZID=UTC:20260429T230000
DTSTAMP:20260422T190000Z
UID:331012-sedgwick-ks-online-real-estate-auction
DESCRIPTION:Sedgwick, KS online real estate auction - historic charm meets modern potential! Step back in time with this stately 2-story traditional home, built in 1876 and situated on a prime lot directly across from the Sedgwick City Park and Community Pool. This 4-bedroom, 1.5-bathroom residence offers a spacious layout featuring a large, iconic covered front porch—perfect for summer evenings. The property includes a 2-car detached garage and a foundation comprised of a crawlspace and a small unfinished partial basement for utility access. Auction begins to close on April 29th at 6:00pm CT.
LOCATION:418 Franklin Avenue, Sedgwick, KS 67135
ORGANIZER:Berkshire Hathaway HomeServices PenFed Realty
URL:https://www.allauctionsales.com/auctions/sedgwick-ks-online-real-estate-auction
STATUS:CONFIRMED
PRIORITY:0
END:VEVENT
END:VCALENDAR