BEGIN:VCALENDAR
VERSION:2.0
BEGIN:VEVENT
SUMMARY:Shipshewana Antique Toy &amp; Misc. Auction
DTSTART;TZID=UTC:20260422T130000
DTEND;TZID=UTC:20260422T130000
DTSTAMP:20260422T130000Z
UID:331406-shipshewana-antique-toy-misc-auction
DESCRIPTION:Shipshewana Antique Toy &amp; Misc. Auction offering huge collection of antiques, collectibles, toys, primitives, glassware, artwork, advertising, signs, furniture, vintage items, quilts, industrial, and more! This auction will feature a special section of antique toy items!
LOCATION:345 S Van Buren Street, Shipshewana, IN 46565
ORGANIZER:Shipshewana Auction Inc.
URL:https://www.allauctionsales.com/auctions/shipshewana-antique-toy-misc-auction
STATUS:CONFIRMED
PRIORITY:0
END:VEVENT
END:VCALENDAR