BEGIN:VCALENDAR
VERSION:2.0
BEGIN:VEVENT
SUMMARY:Lamoine Engbrecht Estate Auction
DTSTART:20260503T160000Z
DTEND:20260503T160000Z
DTSTAMP:20260503T160000Z
UID:331766-lamoine-engbrecht-estate-auction
DESCRIPTION:Lamoine Engbrecht estate auction of pickups, a boat, an ATV, guns, reloading supplies, ammo, sporting items, antiques, collectibles, household goods, garage items, yard and garden items, and more. Features a 2024 GMC Sierra Elevation K 1500 X-31 off road, a 2008 GMC Sierra K1500 extended cab pickup, a 2000 Lund 1800 Adventure Fisherman with newer Mercury 150hp 4-stroke outboard, and a 2003 Honda Rancher TRX 350FM 4-wheeler. Live auction with online bidding on select items.
LOCATION:310 Casey Tibbs St., Fort Pierre, SD 57532
ORGANIZER:Triple A Auction Company, Action Auction Associates LLC
URL:https://www.allauctionsales.com/auctions/lamoine-engbrecht-estate-auction
STATUS:CONFIRMED
PRIORITY:0
END:VEVENT
END:VCALENDAR