BEGIN:VCALENDAR
VERSION:2.0
BEGIN:VEVENT
SUMMARY:Ronnie Jewell Estate Absolute Auction
DTSTART;TZID=UTC:20260516T140000
DTEND;TZID=UTC:20260516T140000
DTSTAMP:20260516T140000Z
UID:331800-ronnie-jewell-estate-absolute-auction
DESCRIPTION:Ronnie Jewell Estate absolute auction of prime development property, and personal property. Development property is 1.49+/- acres located on the corner of Hwy. 31 and Butler Rd., directly beside Moose Lodge. Currently situated on the property is a 900+/- sq. ft. house, concrete block detached garage, and utility building - all in poor condition. The personal property auction features vehicles, a bass boat, trailers, a 4-wheeler, guns, bows, and other hunting supplies, a zero turn mower, tools, and more.
LOCATION:8005 US 31 E, Sellersburg, IN 47172
ORGANIZER:Heil&#039;s Auction Service
URL:https://www.allauctionsales.com/auctions/ronnie-jewell-estate-absolute-auction
STATUS:CONFIRMED
PRIORITY:0
END:VEVENT
END:VCALENDAR