BEGIN:VCALENDAR
VERSION:2.0
BEGIN:VEVENT
SUMMARY:Mark Yost Estate Absolute Real Estate &amp; Personal Property Auction
DTSTART;TZID=UTC:20260509T140000
DTEND;TZID=UTC:20260509T140000
DTSTAMP:20260509T140000Z
UID:331866-mark-yost-estate-absolute-real-estate-personal-property-auction
DESCRIPTION:Mark Yost Estate absolute real estate &amp; personal property auction featuring a 2 bedroom, 1 bathroom home, workshop with lean to &amp; carports on a .43+/- acre lot. Also selling a 1952 Chevy Sunliner sedan, 1996 Chevy 3500 dually, 1992 Ford Explorer XLT, furniture, G.E. refrigerator, Kenmore upright freezer, Drink Coca-Cola thermometer, wood advertising boxes, old albums &amp; 45’s, kitchen and household items, Craftsman self propelled push mower, Stihl weedeater, Craftsman air compressor, fishing equipment, Christmas blow molds &amp; more.
LOCATION:846 E Utica Street, Sellersburg, IN 47172
ORGANIZER:Heil&#039;s Auction Service
URL:https://www.allauctionsales.com/auctions/mark-yost-estate-absolute-real-estate-personal-property-auction
STATUS:CONFIRMED
PRIORITY:0
END:VEVENT
END:VCALENDAR