BEGIN:VCALENDAR
VERSION:2.0
BEGIN:VEVENT
SUMMARY:April Machinery &amp; Equipment Online Consignment Auction
DTSTART;TZID=UTC:20260424T170000
DTEND;TZID=UTC:20260429T200000
DTSTAMP:20260424T170000Z
UID:332013-april-machinery-equipment-online-consignment-auction
DESCRIPTION:April machinery &amp; equipment online consignment auction featuring a John Deere 4840 tractor, John Deere Maxemerge plus planter, Summers sprayer &amp; controller, 2015 Ford F150 pickup truck, 2023 Arctic Cat Altera 600 4 wheeler, John Deere zero turn mower, 2022 Aeli enclosed trailer, John Deere 8300 drill, Case IH 1020 bean head &amp; much more. Auction begins to close on April 29th at 3:00pm CT.
LOCATION:30406 417th Avenue, Tyndall, SD 57066
ORGANIZER:County Road Auction &amp; Sales
URL:https://www.allauctionsales.com/auctions/april-machinery-equipment-online-consignment-auction
STATUS:CONFIRMED
PRIORITY:0
END:VEVENT
END:VCALENDAR