BEGIN:VCALENDAR
VERSION:2.0
BEGIN:VEVENT
SUMMARY:Morstorf Estate Auction #6
DTSTART;TZID=UTC:20260424T150000
DTEND;TZID=UTC:20260424T150000
DTSTAMP:20260424T150000Z
UID:332187-morstorf-estate-auction-6
DESCRIPTION:This is the Morstorf estate auction #6, held on April 24 at 10am CT at 511 Cochran, (Olivet) Lebo, KS. Auction includes hit &amp; miss engines, small engines, shop items, tractor parts, equipment, farm primitives, new stuff and more! There is lots of stuff in this auction, floor to ceiling in the BIG shed, some good, some not. Come check it out!
LOCATION:511 Cochran, (Olivet) Lebo, KS 
ORGANIZER:Hancock Auction and Real Estate
URL:https://www.allauctionsales.com/auctions/morstorf-estate-auction-6
STATUS:CONFIRMED
PRIORITY:0
END:VEVENT
END:VCALENDAR