BEGIN:VCALENDAR
VERSION:2.0
BEGIN:VEVENT
SUMMARY:On-Site Absolute Live Auction – Real Estate &amp; MORE!
DTSTART;TZID=UTC:20260425T143000
DTEND;TZID=UTC:20260425T143000
DTSTAMP:20260425T143000Z
UID:332216-on-site-absolute-live-auction
DESCRIPTION:This is an onsite, absolute, live auction on April 25 at 9:30am CT, located at 11060 Sydney Rd. Green Castle MO. Auction includes real estate: 18.6+/- acres with 1700 sq ft home located in Adair County. There is a pond on the property and 4 outbuildings, additional 864 square foot house, 2 bedrooms, could be 4 bedroom, full basement, 1 bathroom upstairs, 1/2 bath downstairs, wrap around deck on 3 sides, updated kitchen, all appliances stay with the house, washer and dryer stays. Also selling: bobcat, autos, mowers, mini home, storage containers, tools &amp; more!
LOCATION:11060 Sydney Rd.,, Green Castle, MO 63544
ORGANIZER:Sayre Auction LLC
URL:https://www.allauctionsales.com/auctions/on-site-absolute-live-auction
STATUS:CONFIRMED
PRIORITY:0
END:VEVENT
END:VCALENDAR