BEGIN:VCALENDAR
VERSION:2.0
BEGIN:VEVENT
SUMMARY:Johansen Farm Auction
DTSTART;TZID=UTC:20260423T140000
DTEND;TZID=UTC:20260423T140000
DTSTAMP:20260423T140000Z
UID:332394-johansen-farm-auction
DESCRIPTION:Johansen farm auction will be held on April 23 at 10am ET at 12424 15 Mile Rd, Rodney, MI. Includes wagons, commercial horizontal air compressor, Kleen Cut commercial meat saw, snowmobile, log splitter, vehicle lift, boats, trucks, trailers, loader/backhoe, tractors, hay haler, combines, implements/attachments, and more! Online bidding available.
LOCATION:12424 15 Mile Rd, Rodney, MI 49342
ORGANIZER:Sykora Auction Service
URL:https://www.allauctionsales.com/auctions/johansen-farm-auction
STATUS:CONFIRMED
PRIORITY:0
END:VEVENT
END:VCALENDAR