BEGIN:VCALENDAR
VERSION:2.0
BEGIN:VEVENT
SUMMARY:Late Model Semi Tractors, Trailers &amp; More Auction
DTSTART;TZID=UTC:20260430T140000
DTEND;TZID=UTC:20260430T140000
DTSTAMP:20260430T140000Z
UID:332753-late-model-semi-tractors-trailers-more-auction-2
DESCRIPTION:Late model semi tractors, trailers &amp; more auction including a 2024 Peterbilt 389 UltaCab, 2024 Kenworth T-680, 16 matched 2022 Freightliner Cascasia126’s, 2023 International LT625, 2019 Western Star 570XE, 2022 Volvo VNL 760, aluminum reefers, aluminum &amp; plate vans, lowboys, drop decks, vacuum tankers, flatbeds, hopper bottom grain trailer, Yard Hostlers, cube van, motor coach &amp; more. Live auction with online bidding.
LOCATION:1542 Atokad Drive, South Sioux City, NE 68776
ORGANIZER:Taylor &amp; Martin, LLC
URL:https://www.allauctionsales.com/auctions/late-model-semi-tractors-trailers-more-auction-2
STATUS:CONFIRMED
PRIORITY:0
END:VEVENT
END:VCALENDAR