BEGIN:VCALENDAR
VERSION:2.0
BEGIN:VEVENT
SUMMARY:Neutral Grounds Demolition Derby Auction
DTSTART;TZID=UTC:20260425T150000
DTEND;TZID=UTC:20260425T150000
DTSTAMP:20260425T150000Z
UID:333149-neutral-grounds-demolition-derby-auction
DESCRIPTION:Neutral grounds demolition derby auction featuring 1973 Chevy Round Back, 1972 Oldsmobile Round Back, 1974 4-Door Chevy Impala, 1974 Buick Estate Round Back, 1974 Pontiac Catalina, 1976 4-Door Chevy Caprice, 358 Gropp Ice cube Engine, 24ft Gooseneck Trailer, and more. Live auction with online bidding.
LOCATION:1875 Knox Road 900 East, Galesburg, IL 61401
ORGANIZER:Tharp Auction Service
URL:https://www.allauctionsales.com/auctions/neutral-grounds-demolition-derby-auction
STATUS:CONFIRMED
PRIORITY:0
END:VEVENT
END:VCALENDAR