BEGIN:VCALENDAR
VERSION:2.0
BEGIN:VEVENT
SUMMARY:Phyllis M. Hoesing Estate Auction
DTSTART;TZID=UTC:20260425T153000
DTEND;TZID=UTC:20260425T153000
DTSTAMP:20260425T153000Z
UID:333228-phyllis-m-hoesing-estate-auction
DESCRIPTION:Phyllis M. Hoesing Estate auction offering furniture, 2004 Cadillac Deville with 96,691 miles, antiques, lawn &amp; garden items &amp; coins. Bid on glassware, Hurricane table lamp, electric lift chair, curio cabinet, dining table &amp; chairs, electric lift bed, vintage sad iron, Morgan &amp; Peace dollars &amp; more.
LOCATION:412 East Hughson Street, Randolph, NE 68771
ORGANIZER:Aschoff Auction Company
URL:https://www.allauctionsales.com/auctions/phyllis-m-hoesing-estate-auction
STATUS:CONFIRMED
PRIORITY:0
END:VEVENT
END:VCALENDAR