BEGIN:VCALENDAR
VERSION:2.0
BEGIN:VEVENT
SUMMARY:Rugby Spring Farm Equipment Consignment Auction
DTSTART;TZID=UTC:20260415T160000
DTEND;TZID=UTC:20260421T150000
DTSTAMP:20260415T160000Z
UID:333230-rugby-spring-farm-equipment-consignment-auction
DESCRIPTION:The Rugby spring farm equipment consignment auction is held online only, closing April 21 at 10am CT. Auction includes tractors, implements/attachments, Bobcat, portable calving shelter, trucks, semis, pickups, livestock equipment, trailers, tanks, shipping containers, balers, ATVs, snowmobile, UTVs, fish houses, riding lawn mowers, snow blowers, vehicles, school bus, campers, dirt bike, boats, construction machinery, farm equipment and more!
LOCATION:Orr Auction Lot, Rugby, ND 
ORGANIZER:Orr Auctioneers
URL:https://www.allauctionsales.com/auctions/rugby-spring-farm-equipment-consignment-auction
STATUS:CONFIRMED
PRIORITY:0
END:VEVENT
END:VCALENDAR