BEGIN:VCALENDAR
VERSION:2.0
BEGIN:VEVENT
SUMMARY:#2 Firearms Dealer Estate Online Only Auction
DTSTART;TZID=UTC:20260415T130000
DTEND;TZID=UTC:20260503T210000
DTSTAMP:20260415T130000Z
UID:333499-2-firearms-dealer-estate-online-only-auction
DESCRIPTION:#2 firearms dealer estate online only auction featuring Sig Sauer model P220, 10mm auto, Colt Government model, .45 auto, Smith &amp; Wesson model SW1911, 9mm, Smith &amp; Wesson Air Lite Pd, .22 MRFCTG, Savage model Revel 22lr Classic, .22 Lr, Bushmaster model XM15-E2s, .223-5.56, Great Lakes Arms model GL15, .223 Wylde and more. Auction ends May 3 at 4:00pm CT.
LOCATION:5675 Hwy 13, Coggon, IA 52218
ORGANIZER:Hoge Auctioneering
URL:https://www.allauctionsales.com/auctions/2-firearms-dealer-estate-online-only-auction
STATUS:CONFIRMED
PRIORITY:0
END:VEVENT
END:VCALENDAR