BEGIN:VCALENDAR
VERSION:2.0
BEGIN:VEVENT
SUMMARY:Ada Farm Antiques, Vehicles, Collectibles &amp; More Online Only Auction
DTSTART;TZID=UTC:20260413T130000
DTEND;TZID=UTC:20260505T180000
DTSTAMP:20260413T130000Z
UID:333757-ada-farm-antiques-vehicles-collectibles-more-online-only-auction
DESCRIPTION:Ada farm antiques, vehicles, collectibles &amp; more online auction offering a 1950&#039;s Jeep forward control truck, vintage Hudson car, Case 444 garden tractor, horse drawn sleighs, all the farm antiques, milk cans, wash tubs, advertising cans, saw blades, wrought iron fencing and gates, the house is packed with crocks, stoneware, 100yr old magazines, comic book collection, jewelry, milk bottles and Ball jars, clay marbles, antique furniture for every room and more. Auction begins to close on 5th of May at 1:00pm CT.
LOCATION:W3270 Orchard Rd, Elkhart Lake, WI 53020
ORGANIZER:Thiel Real Estate &amp; Auction Service
URL:https://www.allauctionsales.com/auctions/ada-farm-antiques-vehicles-collectibles-more-online-only-auction
STATUS:CONFIRMED
PRIORITY:0
END:VEVENT
END:VCALENDAR