BEGIN:VCALENDAR
VERSION:2.0
BEGIN:VEVENT
SUMMARY:Farm Machinery Auction
DTSTART;TZID=UTC:20260428T150000
DTEND;TZID=UTC:20260428T150000
DTSTAMP:20260428T150000Z
UID:334401-farm-machinery-auction-6
DESCRIPTION:Farm machinery auction featuring tractors, skid loader, combine, trucks, trailer, round baler, manure spreader, rotary swather, Feed-R-Wagon, grinder mixer, cattle equipment, antique steel wheel farm wagon &amp; more. Live auction with online bidding on select items on Tuesday, April 28th at 10:00am CT at 1341 180 Road - Mankato, KS 66956.
LOCATION:1341 180 Road, Mankato, KS 66956
ORGANIZER:Thummel Auction
URL:https://www.allauctionsales.com/auctions/farm-machinery-auction-6
STATUS:CONFIRMED
PRIORITY:0
END:VEVENT
END:VCALENDAR