BEGIN:VCALENDAR
VERSION:2.0
BEGIN:VEVENT
SUMMARY:Collector Car, Truck, Tractor &amp; Antique Live Auction
DTSTART;TZID=UTC:20260502T143000
DTEND;TZID=UTC:20260502T143000
DTSTAMP:20260502T143000Z
UID:334496-collector-car-truck-tractor-antique-live-auction
DESCRIPTION:Collector car, truck, tractor &amp; antique live auction featuring a 1976 Chevy Malibu, 1963 Chevy Impala, 1960s Ford van, 1941 Mercury, 1939 Chevy COE cab &amp; front clip, 1973 GMC ¾ ton 4 x 4 305, 20’s &amp; 30’s car bodies rat rod material, IHC 966 diesel, Ford 8N, IHC Super M factory wide front, gas pumps, gas truck tank wagons, oil can display racks, kerosene stroke pumps, collectable oil cans &amp; buckets, Weaver auto crane, air compressors, engines, horse machinery plows, MSC cream separators &amp; cream cans, wood stove &amp; cook stove parts, pedal cars, blacksmith items, cast iron farm &amp; auto related collectables &amp; more. Live auction on Saturday, May 2nd at 9:30am CT in Onaga, KS.
LOCATION:14820 Arispie Road, Onaga, KS 66521
ORGANIZER:Thummel Auction
URL:https://www.allauctionsales.com/auctions/collector-car-truck-tractor-antique-live-auction
STATUS:CONFIRMED
PRIORITY:0
END:VEVENT
END:VCALENDAR