BEGIN:VCALENDAR
VERSION:2.0
BEGIN:VEVENT
SUMMARY:Rick &amp; Marla Hamilton Moving Auction
DTSTART:20260502T160000Z
DTEND:20260502T160000Z
DTSTAMP:20260502T160000Z
UID:334579-rick-marla-hamilton-moving-auction
DESCRIPTION:Rick &amp; Marla Hamilton moving auction featuring Kubota L4060 tractor with loader, John Deere 740 loader mounts, valve and joy stick, skid steer mount hydraulic snowplow, Bobcat 15 skidsteer mount hyd. post hole digger, Countryside 5’ PTO 3 pt. rotary mower, 2024 Kubota RTV X1100C, 2012 Mercedes GL 550 SUV, Sapphire ceramic grill, Husqvarna YTH 24V48 riding mower, Sofa table, coffee table, 2 end tables set and more.
LOCATION:96 Youngs Point Road, Park City, MT 59063
ORGANIZER:Rick Young &amp; Sons Auctioneers
URL:https://www.allauctionsales.com/auctions/rick-marla-hamilton-moving-auction
STATUS:CONFIRMED
PRIORITY:0
END:VEVENT
END:VCALENDAR