BEGIN:VCALENDAR
VERSION:2.0
BEGIN:VEVENT
SUMMARY:Large Moving/Downsizing Online Only Auction
DTSTART;TZID=UTC:20260412T050000
DTEND;TZID=UTC:20260423T230000
DTSTAMP:20260412T050000Z
UID:335579-large-moving-downsizing-online-only-auction
DESCRIPTION:Large moving/downsizing online only auction featuring Grasshopper 100V 61” mower, Kubota Garden tractor, utility trailer, Wagner cast alauminum salesman sample, Whitetail shoulder mount, Craftsman Oxy Acetylene set, bottles, cart, Ping green dot TST iron set, Ping G20 wood, regular flex shaft, Broyhill night stands, dual fuel generator, and more. Auction ends April 23 at 6:00pm CT.
LOCATION:, Wellington, KS 67152
ORGANIZER:Wiens Auction/Realty LLC
URL:https://www.allauctionsales.com/auctions/large-moving-downsizing-online-only-auction
STATUS:CONFIRMED
PRIORITY:0
END:VEVENT
END:VCALENDAR