BEGIN:VCALENDAR
VERSION:2.0
BEGIN:VEVENT
SUMMARY:Consignment Auction
DTSTART;TZID=UTC:20260426T173000
DTEND;TZID=UTC:20260426T173000
DTSTAMP:20260426T173000Z
UID:335739-consignment-auction-2
DESCRIPTION:Consignment Auction offering Grumman 17’ aluminum canoe, Pulsar 7500 W generator, Minkota trolling motor, small wood stove, 10” miter saw, coins, jewelry, antiques and collectibles, household items, shop items, sporting goods and much more!
LOCATION:1309 Laurel Street, Whitewood, SD 57793
ORGANIZER:Dakota West Auction
URL:https://www.allauctionsales.com/auctions/consignment-auction-2
STATUS:CONFIRMED
PRIORITY:0
END:VEVENT
END:VCALENDAR