BEGIN:VCALENDAR
VERSION:2.0
BEGIN:VEVENT
SUMMARY:U.S. Customs GO Merchandise Online Auction
DTSTART;TZID=UTC:20260506T150000
DTEND;TZID=UTC:20260507T150000
DTSTAMP:20260506T150000Z
UID:335784-u-s-customs-go-merchandise-online-auction-3
DESCRIPTION:U.S. Customs GO merchandise online auction including rolls of fabric, decorative pillows, Kelvinite, robotic cleaning machine, book binding machine, clothing, windows, 2000 Mazda Roadster, chemical protective suit, excavator bucket, flooring &amp; more. Auction begins to close on May 7th at 11:00am ET.
LOCATION:Multiple Locations, Multiple Locations, CA 
ORGANIZER:CWS Marketing Group
URL:https://www.allauctionsales.com/auctions/u-s-customs-go-merchandise-online-auction-3
STATUS:CONFIRMED
PRIORITY:0
END:VEVENT
END:VCALENDAR