BEGIN:VCALENDAR
VERSION:2.0
BEGIN:VEVENT
SUMMARY:Pottery and Stoneware Online Only Auction #66
DTSTART;TZID=UTC:20260420T130000
DTEND;TZID=UTC:20260505T000000
DTSTAMP:20260420T130000Z
UID:335809-pottery-and-stoneware-online-only-auction-66
DESCRIPTION:Pottery and stoneware online auction #66 offering stoneware cutouts, Red Wing poultry drinking fount and buttermilk feeder with tray, ½ gallon squat style Ko-Rec feeder with base, stone feeder parts, Red Wing pottery-August 1931 price list posters, Red Wing stoneware and stoneware specialties poster and more. Auction begins to close on Monday 4th of May at 7:00pm CT.
LOCATION:340 Ash Street, Nicollet, MN 56074
ORGANIZER:Southern Minnesota Auctions
URL:https://www.allauctionsales.com/auctions/pottery-and-stoneware-online-only-auction-66
STATUS:CONFIRMED
PRIORITY:0
END:VEVENT
END:VCALENDAR