BEGIN:VCALENDAR
VERSION:2.0
BEGIN:VEVENT
SUMMARY:51+/- Acre Adams County, WA Irrigated Farm Ground with Development Potential Online Auction
DTSTART;TZID=America/Los_Angeles:20260428T070000
DTEND;TZID=America/Los_Angeles:20260505T110000
DTSTAMP:20260428T140000Z
UID:336136-51-acre-adams-county-wa-irrigated-farm-ground-with-development-potential-online-auction
DESCRIPTION:51+/- acre Adams County, WA irrigated farm ground with development potential online auction. Location, versatility, and opportunity. This Tract combines productive farm ground with strong development potential. Featuring an established irrigation system, domestic well, and septic system, this property is well-equipped for both agricultural use and future growth. Auction begins to close on May 5th at 1:00pm PT.
LOCATION:961 South Highway 24, Othello, WA 99344
ORGANIZER:Booker Auction Company
URL:https://www.allauctionsales.com/auctions/51-acre-adams-county-wa-irrigated-farm-ground-with-development-potential-online-auction
STATUS:CONFIRMED
PRIORITY:0
END:VEVENT
END:VCALENDAR