BEGIN:VCALENDAR
VERSION:2.0
BEGIN:VEVENT
SUMMARY:Carl Killian Estate Absolute Auction
DTSTART;TZID=America/Chicago:20260509T120000
DTEND;TZID=America/Chicago:20260509T120000
DTSTAMP:20260509T170000Z
UID:336421-carl-killian-estate-absolute-auction
DESCRIPTION:Carl Killian Estate Absolute Auction featuring land, classic car barn find field find including 14+ acres in 3 tracts, 2001 Chevrolet LS venture van, 2002 Ford Explorer pickup, 1978 Dodge flatbed truck, Nissan pickup truck, Datsun pickup truck, Plymouth Belvedere, John Deere backhoe, and more. Live auction with online bidding.
LOCATION:3182 Main Street, Altamont, TN 37301
ORGANIZER:Mike Winton Realty &amp; Auction Company
URL:https://www.allauctionsales.com/auctions/carl-killian-estate-absolute-auction
STATUS:CONFIRMED
PRIORITY:0
END:VEVENT
END:VCALENDAR