BEGIN:VCALENDAR
VERSION:2.0
BEGIN:VEVENT
SUMMARY:May Shop and Tool Online Only Auction
DTSTART;TZID=America/Los_Angeles:20260425T150000
DTEND;TZID=America/Los_Angeles:20260510T110000
DTSTAMP:20260425T220000Z
UID:336441-may-shop-and-tool-online-only-auction
DESCRIPTION:May Shop and Tool Online Only Auction offering 14” wood cutting band saw, Grizzly drill press, horizontal metal hacksaw, Ridgid pipe threader, Cyclone Bender, Greenerd arbor press, Ingersol Rand air compressor and much more! Bidding opens April 25th at 5:00 PM PT. Auction starts to close May 10th at 1:00 PM PT
LOCATION:5946 Guide Meridian, Bellingham, WA 98226
ORGANIZER:Meridian Equipment Inc
URL:https://www.allauctionsales.com/auctions/may-shop-and-tool-online-only-auction
STATUS:CONFIRMED
PRIORITY:0
END:VEVENT
END:VCALENDAR