BEGIN:VCALENDAR
VERSION:2.0
BEGIN:VEVENT
SUMMARY:Stanton Dodson Estate Online Only Auction 1 of 2
DTSTART;TZID=America/Denver:20260423T070000
DTEND;TZID=America/Denver:20260423T170000
DTSTAMP:20260423T130000Z
UID:336719-stanton-dodson-estate-online-only-auction-1-of-2
DESCRIPTION:Stanton Dodson Estate online only auction 1 of 2 offering square body Chevy pickups, 4X4 pickups, crew cabs, extended cab pickups, motorcycles, ATVs, trailers, antique farm implement yard art, Ford 8N tractor, riding lawn mowers, go cart, barn finds &amp; collectibles yet to be uncovered. Auction ends April 23rd at 6:00pm MT.
LOCATION:, Moorcroft, WY 82721
ORGANIZER:McPherson Auction &amp; Realty Company
URL:https://www.allauctionsales.com/auctions/stanton-dodson-estate-online-only-auction-1-of-2
STATUS:CONFIRMED
PRIORITY:0
END:VEVENT
END:VCALENDAR