BEGIN:VCALENDAR
VERSION:2.0
BEGIN:VEVENT
SUMMARY:Online Only Collector License Plate Auction
DTSTART;TZID=America/Chicago:20260421T080000
DTEND;TZID=America/Chicago:20260504T190000
DTSTAMP:20260421T130000Z
UID:336786-online-only-collector-license-plate-auction
DESCRIPTION:Online only collector license plate auction featuring Minnesota, South &amp; North Dakota plates plus others including a North Dakota  2000 Purple Heart plate, North Dakota 3 digit plate from 1914, Wyoming 1944 plate, North Dakota 1936 dealer plate, Minnesota 1946 Y3 plate, South Dakota 1955 sample pate &amp; more. Auction ends May 4th at 7:00pm CT.
LOCATION:15 Ohio Street, Wakonda, SD 57073
ORGANIZER:Girard Auction &amp; Land Brokers
URL:https://www.allauctionsales.com/auctions/online-only-collector-license-plate-auction
STATUS:CONFIRMED
PRIORITY:0
END:VEVENT
END:VCALENDAR