BEGIN:VCALENDAR
VERSION:2.0
BEGIN:VEVENT
SUMMARY:WoodRing Online Only Auction
DTSTART;TZID=America/New_York:20260421T090000
DTEND;TZID=America/New_York:20260511T100000
DTSTAMP:20260421T130000Z
UID:336833-woodring-online-only-auction-8
DESCRIPTION:WoodRing online only auction offering high-quality notched #1 grade pallet stringers, hardwood stringers, Aspen stringers, mixed hardwood deck boards, pine pallet runners, 5.5” x 5.5” Cants, treated fence posts &amp; Kentucky fence boards. Auction begins to close on May 11th at 9:00am ET.
LOCATION:, , KS 
ORGANIZER:Bright Star Auctions
URL:https://www.allauctionsales.com/auctions/woodring-online-only-auction-8
STATUS:CONFIRMED
PRIORITY:0
END:VEVENT
END:VCALENDAR