BEGIN:VCALENDAR
VERSION:2.0
BEGIN:VEVENT
SUMMARY:Annual Spring Eltopia Online 2 Day Consignment Auction
DTSTART;TZID=America/Los_Angeles:20260501T070000
DTEND;TZID=America/Los_Angeles:20260507T080000
DTSTAMP:20260501T140000Z
UID:336869-annual-spring-eltopia-online-2-day-consignment-auction
DESCRIPTION:Annual Spring Eltopia online 2 day consignment auction including  a Toro TimeCutter zero turn lawn mower, 2019 Ford F150 pickup, 2023 Kawasaki 4010 Mule, 2025 SDLAUNCH golf cart, 2025 electric tricycles, 2016 Ram 2500 pickup, 2018 Freightliner Cascadia 125 tractor truck, 2017 Kenworth T880 grain truck, trailers, mini excavators, mini skid steer loaders, high-end mobile jaw crushers, 2021 John Deere 7R 210 tractor, 2018 Massey Ferguson 2290 baler, horse drawn buggies, shipping containers, pressure treated posts, wood pellets, shopping carts, toy tractors &amp; much more. Auctions end May 7th &amp; May 8th at 10:00am PT each day.
LOCATION:31 Eltopia West Road, Eltopia, WA 99330
ORGANIZER:Booker Auction Company
URL:https://www.allauctionsales.com/auctions/annual-spring-eltopia-online-2-day-consignment-auction
STATUS:CONFIRMED
PRIORITY:0
END:VEVENT
END:VCALENDAR