BEGIN:VCALENDAR
VERSION:2.0
BEGIN:VEVENT
SUMMARY:Annual Spring Offsite Online Farm Auction
DTSTART;TZID=America/Los_Angeles:20260513T070000
DTEND;TZID=America/Los_Angeles:20260520T090000
DTSTAMP:20260513T140000Z
UID:336893-annual-spring-offsite-online-farm-auction-2
DESCRIPTION:Annual Spring offsite online farm auction including a 2019 Massey Ferguson self propelled swather, Twinstar hay rakes, 2022 Massey Ferguson balers, Case skid steers, 2012 Stinger bale stacker, Case wheel loader, tractors, Caterpillar D8K dozer, Supreme feed mixer, manure spreaders, farm implements, double curtain grape harvesters, custom 3 ton grape gondolas, custom grape bulk bins &amp; more. Auction begins to close on May 20th at 11:00am PT. Items in various locations in Washington, Oregon &amp; Idaho.
LOCATION:, Various Locations, WA 
ORGANIZER:Booker Auction Company
URL:https://www.allauctionsales.com/auctions/annual-spring-offsite-online-farm-auction-2
STATUS:CONFIRMED
PRIORITY:0
END:VEVENT
END:VCALENDAR