BEGIN:VCALENDAR
VERSION:2.0
BEGIN:VEVENT
SUMMARY:79+/- Acre Vernon County, MO Online Land auction
DTSTART;TZID=America/Chicago:20260421T080000
DTEND;TZID=America/Chicago:20260520T180000
DTSTAMP:20260421T130000Z
UID:336914-79-acre-vernon-county-mo-online-land-auction
DESCRIPTION:79+/- acre Metz Township, Vernon County, MO online land auction. The property features fenced native grass pasture and is well-suited for livestock production, recreational activities and potential homesites. Accessed by rocked county roads, the land has two nice sized ponds, timbered draws and Reed Creek entering the west boundary of the property. The farm ranges in elevation from 780-830 feet. Conexon Connect Fiber Optic appears to be within 1 mile of the farm. Auction ends May 20th at 6:00pm CT.
LOCATION:Metz Township, Vernon County, MO 64779
ORGANIZER:United Country Heritage Brokers &amp; Auctioneers
URL:https://www.allauctionsales.com/auctions/79-acre-vernon-county-mo-online-land-auction
STATUS:CONFIRMED
PRIORITY:0
END:VEVENT
END:VCALENDAR